BEGIN:VCALENDAR
VERSION:2.0
PRODID:-//Die drei Detektive - ECPv6.15.20//NONSGML v1.0//EN
CALSCALE:GREGORIAN
METHOD:PUBLISH
X-ORIGINAL-URL:https://xilofa.de
X-WR-CALDESC:Veranstaltungen für Die drei Detektive
REFRESH-INTERVAL;VALUE=DURATION:PT1H
X-Robots-Tag:noindex
X-PUBLISHED-TTL:PT1H
BEGIN:VTIMEZONE
TZID:Europe/Berlin
BEGIN:DAYLIGHT
TZOFFSETFROM:+0100
TZOFFSETTO:+0200
TZNAME:CEST
DTSTART:20250330T010000
END:DAYLIGHT
BEGIN:STANDARD
TZOFFSETFROM:+0200
TZOFFSETTO:+0100
TZNAME:CET
DTSTART:20251026T010000
END:STANDARD
BEGIN:DAYLIGHT
TZOFFSETFROM:+0100
TZOFFSETTO:+0200
TZNAME:CEST
DTSTART:20260329T010000
END:DAYLIGHT
BEGIN:STANDARD
TZOFFSETFROM:+0200
TZOFFSETTO:+0100
TZNAME:CET
DTSTART:20261025T010000
END:STANDARD
BEGIN:DAYLIGHT
TZOFFSETFROM:+0100
TZOFFSETTO:+0200
TZNAME:CEST
DTSTART:20270328T010000
END:DAYLIGHT
BEGIN:STANDARD
TZOFFSETFROM:+0200
TZOFFSETTO:+0100
TZNAME:CET
DTSTART:20271031T010000
END:STANDARD
END:VTIMEZONE
BEGIN:VEVENT
DTSTART;VALUE=DATE:20260830
DTEND;VALUE=DATE:20260831
DTSTAMP:20260423T142905
CREATED:20260226T202912Z
LAST-MODIFIED:20260227T155654Z
UID:2173-1788048000-1788134399@xilofa.de
SUMMARY:Fall 15
DESCRIPTION:Dieser Inhalt ist nur für angemeldete Personen sichtbar.  Registrieren | Anmelden  \nDu bist angemeldet? Fehler melden
URL:https://xilofa.de/events/fall-15/
LOCATION:WhatsApp Kanal
ATTACH;FMTTYPE=image/png:https://xilofa.de/wp-content/uploads/2026/02/Aussicht-Fall-15.png
ORGANIZER;CN="Die drei Detektive":MAILTO:felix@xilofa.de
END:VEVENT
END:VCALENDAR