BEGIN:VCALENDAR
VERSION:2.0
PRODID:-//Die drei Detektive - ECPv6.15.20//NONSGML v1.0//EN
CALSCALE:GREGORIAN
METHOD:PUBLISH
X-ORIGINAL-URL:https://xilofa.de
X-WR-CALDESC:Veranstaltungen fÃ¼r Die drei Detektive
REFRESH-INTERVAL;VALUE=DURATION:PT1H
X-Robots-Tag:noindex
X-PUBLISHED-TTL:PT1H
BEGIN:VTIMEZONE
TZID:Europe/Berlin
BEGIN:DAYLIGHT
TZOFFSETFROM:+0100
TZOFFSETTO:+0200
TZNAME:CEST
DTSTART:20240331T010000
END:DAYLIGHT
BEGIN:STANDARD
TZOFFSETFROM:+0200
TZOFFSETTO:+0100
TZNAME:CET
DTSTART:20241027T010000
END:STANDARD
BEGIN:DAYLIGHT
TZOFFSETFROM:+0100
TZOFFSETTO:+0200
TZNAME:CEST
DTSTART:20250330T010000
END:DAYLIGHT
BEGIN:STANDARD
TZOFFSETFROM:+0200
TZOFFSETTO:+0100
TZNAME:CET
DTSTART:20251026T010000
END:STANDARD
BEGIN:DAYLIGHT
TZOFFSETFROM:+0100
TZOFFSETTO:+0200
TZNAME:CEST
DTSTART:20260329T010000
END:DAYLIGHT
BEGIN:STANDARD
TZOFFSETFROM:+0200
TZOFFSETTO:+0100
TZNAME:CET
DTSTART:20261025T010000
END:STANDARD
BEGIN:DAYLIGHT
TZOFFSETFROM:+0100
TZOFFSETTO:+0200
TZNAME:CEST
DTSTART:20270328T010000
END:DAYLIGHT
BEGIN:STANDARD
TZOFFSETFROM:+0200
TZOFFSETTO:+0100
TZNAME:CET
DTSTART:20271031T010000
END:STANDARD
END:VTIMEZONE
BEGIN:VEVENT
DTSTART;TZID=Europe/Berlin:20260412T150000
DTEND;TZID=Europe/Berlin:20260412T150000
DTSTAMP:20260419T161804
CREATED:20250713T170129Z
LAST-MODIFIED:20260402T135211Z
UID:1485-1776006000-1776006000@xilofa.de
SUMMARY:Fall 13
DESCRIPTION:ï»¿ï»¿ \nEinfach nur die Ferien genieÃŸen! Ist bei den drei Detektiven doch schon fast unmÃ¶glich! Nachdem Herr Fanghut die drei Freunde mit auf einen Urlaub in einer Oase nehmen will\, geschehen auf einmal seltsame Dinge. Auf einmal steht die ganze Oase in Flammen\, danach wird in die einzelnen HÃ¤user eingebrochen und noch vieles mehr. KÃ¶nnen die drei Detektive trotz der ganzen Geschehnisse den Ãœberblick behalten und diesen Fall lÃ¶sen? \nDas klingt ja schon fast unmÃ¶glich&#8230; \n  \nWenn du diesen Fall nicht verpassen mÃ¶chtest\, dan kannst du ihn jetzt schon vorbestellen: \nBitte aktiviere JavaScript in deinem Browser\, um dieses Formular fertigzustellen.Bitte aktiviere JavaScript in deinem Browser\, um dieses Formular fertigzustellen.Name *VornameNachname		\n			Name E-Mail-Adresse und\n			\n		\n		E-Mail-Adresse *Buchauswahl *Fall 1 - 1\,50 &euro;Fall 2 - 1\,50 &euro;Fall 3 - 1\,50 &euro;Fall 4 - 1\,60 &euro;Fall 5 - 1\,95 &euro;Fall 6 - 1\,95 &euro;Fall 7 - 1\,80 &euro;Fall 8 - 1\,60 &euro;Fall 9 - 1\,85 &euro;Fall 10 - 2\,00 &euro;Fall 11 - 1\,50 &euro;Fall 12 - 2\,30 &euro;Fall 13 - 2\,25 &euro;Fall 14 - 2\,35 &euro;Dropdownnormales BuchAls E-Book bestellenE-Book und normales BuchGutschein- und KundenkartenNenne den Namen\, der auf deinem Gutschein steht (Nur ab 2025)ZahlenNenne den 10-Stelligen Wert auf deiner GutscheinrÃ¼ckseite (Nur ab 2025)Bestellung senden
URL:https://xilofa.de/events/fall-13/
LOCATION:WhatsApp Kanal
ATTACH;FMTTYPE=image/png:https://xilofa.de/wp-content/uploads/2025/08/Aussicht-Fall-13.png
ORGANIZER;CN="Die drei Detektive":MAILTO:felix@xilofa.de
END:VEVENT
BEGIN:VEVENT
DTSTART;TZID=Europe/Berlin:20251031T193000
DTEND;TZID=Europe/Berlin:20251031T193000
DTSTAMP:20260419T161804
CREATED:20251002T062037Z
LAST-MODIFIED:20251002T062222Z
UID:1733-1761939000-1761939000@xilofa.de
SUMMARY:Adventskalenderwettbewerb 2025
DESCRIPTION:Am 31. Oktober ist es wieder so weit: Die spÃ¤teste Abgabe des Motives fÃ¼r den Adventskalendenderwettbewerb findet statt. Infos zum Wettbewerb und die Anmeldung findest du hier. \nDu wirst ab Anfang November einen neuen Beitrag sehen kÃ¶nnen\, in dem die Ergebnisse des Wettbewerbes aufgefÃ¼hrt sind\, ebenfalls kannst du dort den Kalender dann bestellen. \nViel SpaÃŸ beim Zeichen und Malen!
URL:https://xilofa.de/events/adventskalenderwettbewerb-2025/
ATTACH;FMTTYPE=image/png:https://xilofa.de/wp-content/uploads/2025/10/Adventskalenderwettbewerb-2025.png
ORGANIZER;CN="Die drei Detektive":MAILTO:felix@xilofa.de
END:VEVENT
BEGIN:VEVENT
DTSTART;TZID=Europe/Berlin:20250803T100000
DTEND;TZID=Europe/Berlin:20250803T100000
DTSTAMP:20260419T161804
CREATED:20250525T095552Z
LAST-MODIFIED:20250804T100616Z
UID:1301-1754215200-1754215200@xilofa.de
SUMMARY:Fall 12
DESCRIPTION:Am 03.08.2025 kommt der neue Fall der drei Detektive heraus! Doch diesmal wird es nicht so einfach zu Ermitteln\, denn Kommissar Fanghut wurde auf einmal festgenommen! \nNun stellt sich natÃ¼rlich die Frage: Ist Herr Fanghut unschuldig oder hat er den Freunden etwas verschwiegen? Ist er vielleicht gar kein Kommissar\, sondern ist in Wirklichkeit nur ein Schwerverbrecher? Die drei Detektive sind da eher fÃ¼r ersteres. Doch warum sprechen dann alle Indizien fÃ¼r ihn? \nWenn du diese Geschichte auf gar keine Fall verpassen mÃ¶chtest\, dann kannst du sie schon vorbestellen: \nBitte aktiviere JavaScript in deinem Browser\, um dieses Formular fertigzustellen.Bitte aktiviere JavaScript in deinem Browser\, um dieses Formular fertigzustellen.		\n			Buchauswahl Dropdown Zahlen\n			\n		\n		Name *VornameNachnameE-Mail-Adresse *Buchauswahl *Fall 1 - 1\,50 &euro;Fall 2 - 1\,50 &euro;Fall 3 - 1\,50 &euro;Fall 4 - 1\,60 &euro;Fall 5 - 1\,95 &euro;Fall 6 - 1\,95 &euro;Fall 7 - 1\,80 &euro;Fall 8 - 1\,60 &euro;Fall 9 - 1\,85 &euro;Fall 10 - 2\,00 &euro;Fall 11 - 1\,50 &euro;Fall 12 - 2\,30 &euro;Fall 13 - 2\,25 &euro;Fall 14 - 2\,35 &euro;Dropdownnormales BuchAls E-Book bestellenE-Book und normales BuchGutschein- und KundenkartenNenne den Namen\, der auf deinem Gutschein steht (Nur ab 2025)ZahlenNenne den 10-Stelligen Wert auf deiner GutscheinrÃ¼ckseite (Nur ab 2025)Bestellung senden
URL:https://xilofa.de/events/fall-12/
LOCATION:WhatsApp Kanal
ATTACH;FMTTYPE=image/png:https://xilofa.de/wp-content/uploads/2025/08/Aussicht-Fall-12.png
ORGANIZER;CN="Die drei Detektive":MAILTO:felix@xilofa.de
END:VEVENT
BEGIN:VEVENT
DTSTART;TZID=Europe/Berlin:20250316T170000
DTEND;TZID=Europe/Berlin:20250316T170000
DTSTAMP:20260419T161804
CREATED:20250315T170314Z
LAST-MODIFIED:20250804T100540Z
UID:1062-1742144400-1742144400@xilofa.de
SUMMARY:Fall 11
DESCRIPTION:ï»¿ \nAm 16.03.2025 kommt Fall 11 der drei Detektive heraus! \nDieser Fall wurde von einer Teilnehmerin des Adventskalenders geschrieben. \n  \nEs geht darum\, dass die drei Detekltive mit Kommissar Fanghut nach London reisen\, um dort das Musical anzusehen\, bei dem Herr Fanghuts alter Schulfreund Lenny die Hauptfigur spielt. Doch bevor das Musical Ã¼berhaupt beginnen kann\, geschieht ein Verbrechen\, das die drei Detektive nur mit einer List aufdecken kÃ¶nnen. \n  \nAuf dem Whats-App-Kanal der drei Detektive erscheint um 17:00 Uhr MEZ das Buch! \n  \nBestellung: \nBitte aktiviere JavaScript in deinem Browser\, um dieses Formular fertigzustellen.Bitte aktiviere JavaScript in deinem Browser\, um dieses Formular fertigzustellen.Name *VornameNachnameE-Mail-Adresse *Buchauswahl *Fall 1 - 1\,50 &euro;Fall 2 - 1\,50 &euro;Fall 3 - 1\,50 &euro;Fall 4 - 1\,60 &euro;Fall 5 - 1\,95 &euro;Fall 6 - 1\,95 &euro;Fall 7 - 1\,80 &euro;Fall 8 - 1\,60 &euro;Fall 9 - 1\,85 &euro;Fall 10 - 2\,00 &euro;Fall 11 - 1\,50 &euro;Fall 12 - 2\,30 &euro;Fall 13 - 2\,25 &euro;Fall 14 - 2\,35 &euro;		\n			Buchauswahl E-Mail-Adresse Zahlen\n			\n		\n		Dropdownnormales BuchAls E-Book bestellenE-Book und normales BuchGutschein- und KundenkartenNenne den Namen\, der auf deinem Gutschein steht (Nur ab 2025)ZahlenNenne den 10-Stelligen Wert auf deiner GutscheinrÃ¼ckseite (Nur ab 2025)Bestellung senden
URL:https://xilofa.de/events/fall-11/
LOCATION:WhatsApp Kanal
ATTACH;FMTTYPE=image/png:https://xilofa.de/wp-content/uploads/2025/08/Aussicht-Fall-11.png
ORGANIZER;CN="Die drei Detektive":MAILTO:felix@xilofa.de
END:VEVENT
BEGIN:VEVENT
DTSTART;TZID=Europe/Berlin:20250202T150000
DTEND;TZID=Europe/Berlin:20250202T150000
DTSTAMP:20260419T161804
CREATED:20241226T164338Z
LAST-MODIFIED:20250331T115616Z
UID:652-1738508400-1738508400@xilofa.de
SUMMARY:Special: Die Geschichte des alten Hauptbahnhofes
DESCRIPTION:  \nIn dem Special 1\, Die Geschichte des alten Hauptbahnhofes\, geht es darum\, dass die drei Detektive in ihrem neuen DetektivbÃ¼ro\, der Spielefabrik\, neue Detektivutensilien einrÃ¤umen und wÃ¤hrendessen Herr Loch\, der Besitzer der Fabrik\, entfÃ¼hrt wird. Die drei Detektive nehmen die Spur auf und stoÃŸen auf den Teufel\, eine jahrhundertalte Geschichte und auf schwarze LieferwÃ¤gen.
URL:https://xilofa.de/events/006-000-001/
LOCATION:WhatsApp Kanal
ORGANIZER;CN="Die drei Detektive":MAILTO:felix@xilofa.de
END:VEVENT
END:VCALENDAR